BEGIN:VCALENDAR
VERSION:2.0
PRODID:-//Hamilton Tramping Club//NONSGML kigkonsult.se iCalcreator 2.41.92//
CALSCALE:GREGORIAN
METHOD:PUBLISH
UID:39663930-6364-4530-a561-306538333835
X-WR-CALNAME:iCagenda
X-WR-CALDESC:Event Management Extension for Joomla!
X-WR-RELCALID:3E26604A-50F4-4449-8B3E-E4F4932D05B5
X-WR-TIMEZONE:Pacific/Auckland
BEGIN:VTIMEZONE
TZID:Pacific/Auckland
TZUNTIL:20260926T140000Z
BEGIN:STANDARD
TZNAME:NZST
DTSTART:20240407T030000
TZOFFSETFROM:+1300
TZOFFSETTO:+1200
RDATE:20250406T030000
RDATE:20260405T030000
END:STANDARD
BEGIN:DAYLIGHT
TZNAME:NZDT
DTSTART:20240929T020000
TZOFFSETFROM:+1200
TZOFFSETTO:+1300
RDATE:20250928T020000
END:DAYLIGHT
END:VTIMEZONE
BEGIN:VEVENT
UID:34323332-3334-4332-b935-346366396631
DTSTAMP:20260420T172019Z
CATEGORIES:A Grade
CLASS:PUBLIC
DESCRIPTION;ALTREP="CID:<FFFF__=0ABBE548DFE235B58f9e8a93d@coffeebean.com>":
 &nbsp\;\nTrip 1325 Eastern Kaimai tracks up from Highway 29. Grade A.\nBoo
 kings open from Jan 9 to Feb 3\nLeaders Carl &amp\; Yvonne\n&nbsp\;\nTop o
 f the Kaimai: Henderson Tramlines&nbsp\;\nAn excellent opportunity to reac
 h the Kaimai Ridge&nbsp\;Track via the North Henderson Tramline for great 
 views of Waikato and BOP. Lunch at the historical Hurunui Hut (time permit
 ting) and then return via the alternative West Henderson Tramway. Good tra
 cks\, includes easy gradual climb up to about 140m\, An A grade tramp requ
 iring reasonable fitness. About 5 to 6 hr tramp including stops. Chance of
  a dip at one of the waterfalls and an ice cream on the way home.\n&nbsp\;
 \nTransport\, $30 Members &amp\; $35 Non-members\n&nbsp\;\nIf you require 
 more information before booking\, contact Carl on 027 815 3212\n&nbsp\;\n&
 nbsp\;
DTSTART:20250208T183000Z
DTEND:20250209T040000Z
GEO:00;0
LOCATION:
ORGANIZER;CN=:mailto:mosclanz@gmail.com
SEQUENCE:1
SUMMARY:Trip 1325 FEB 9 Eastern Kaimai tracks up from Highway 29.   Grade A
 .
TRANSP:OPAQUE
URL:https://tramphtc.org.nz/index.php/component/icagenda/25-trip-1325-feb-9
 -eastern-kaimai-tracks-up-from-highway-29-grade-a
END:VEVENT
END:VCALENDAR
