BEGIN:VCALENDAR
VERSION:2.0
PRODID:-//Hamilton Tramping Club//NONSGML kigkonsult.se iCalcreator 2.41.92//
CALSCALE:GREGORIAN
METHOD:PUBLISH
UID:36613932-3663-4739-a131-373766303333
X-WR-CALNAME:iCagenda
X-WR-CALDESC:Event Management Extension for Joomla!
X-WR-RELCALID:3E26604A-50F4-4449-8B3E-E4F4932D05B5
X-WR-TIMEZONE:Pacific/Auckland
BEGIN:VTIMEZONE
TZID:Pacific/Auckland
TZUNTIL:20260926T140000Z
BEGIN:STANDARD
TZNAME:NZST
DTSTART:20240407T030000
TZOFFSETFROM:+1300
TZOFFSETTO:+1200
RDATE:20250406T030000
RDATE:20260405T030000
END:STANDARD
BEGIN:DAYLIGHT
TZNAME:NZDT
DTSTART:20240929T020000
TZOFFSETFROM:+1200
TZOFFSETTO:+1300
RDATE:20250928T020000
END:DAYLIGHT
END:VTIMEZONE
BEGIN:VEVENT
UID:30353864-6361-4231-a662-326464663263
DTSTAMP:20260420T171853Z
CATEGORIES:A Grade
CLASS:PUBLIC
DESCRIPTION;ALTREP="CID:<FFFF__=0ABBE548DFE235B58f9e8a93d@coffeebean.com>":
 Trip 1324 WAITANGI WEEKEND – Matemateaonga Track. Will need to take Friday
  7/2/24 off. Grade A &amp\; C\nNeed 2x groups either end to make trip work
 .\nMore details to follow\n&nbsp\;\nBookings open Jan 9 to Feb 3\n&nbsp\;
 \nLeader Wendy M 027 305 9347\n&nbsp\;\nIf you are not a member of Hamilto
 n Tramping Club and would like more Information about our trips please con
 tact the Club Captain Kathy Old on 027 815 3212\n&nbsp\;\n&nbsp\;\n&nbsp\;
 \n&nbsp\;\n&nbsp\;\n&nbsp\;
DTSTART:20250206T050000Z
DTEND:20250209T060000Z
GEO:00;0
LOCATION:
ORGANIZER;CN=:mailto:bryce@rockclimb.co.nz
SEQUENCE:1
SUMMARY:Trip 1324 WAITANGI WEEKEND – Matemateaonga Track.  Will need to tak
 e Friday 7/2/24 off. Grade A & C
TRANSP:OPAQUE
URL:https://tramphtc.org.nz/index.php/component/icagenda/24-trip-1324-waita
 ngi-weekend-matemateaonga-track-will-need-to-take-friday-7-2-24-off-grade-
 a-c
END:VEVENT
END:VCALENDAR
