BEGIN:VCALENDAR
VERSION:2.0
PRODID:-//Hamilton Tramping Club//NONSGML kigkonsult.se iCalcreator 2.41.92//
CALSCALE:GREGORIAN
METHOD:PUBLISH
UID:65383735-3730-4539-b438-666565333537
X-WR-CALNAME:iCagenda
X-WR-CALDESC:Event Management Extension for Joomla!
X-WR-RELCALID:3E26604A-50F4-4449-8B3E-E4F4932D05B5
X-WR-TIMEZONE:Pacific/Auckland
BEGIN:VTIMEZONE
TZID:Pacific/Auckland
TZUNTIL:20260926T140000Z
BEGIN:STANDARD
TZNAME:NZST
DTSTART:20240407T030000
TZOFFSETFROM:+1300
TZOFFSETTO:+1200
RDATE:20250406T030000
RDATE:20260405T030000
END:STANDARD
BEGIN:DAYLIGHT
TZNAME:NZDT
DTSTART:20240929T020000
TZOFFSETFROM:+1200
TZOFFSETTO:+1300
RDATE:20250928T020000
END:DAYLIGHT
END:VTIMEZONE
BEGIN:VEVENT
UID:37333538-3436-4136-a336-656236353530
DTSTAMP:20260420T185643Z
CATEGORIES:A Grade
CLASS:PUBLIC
DESCRIPTION;ALTREP="CID:<FFFF__=0ABBE548DFE235B58f9e8a93d@coffeebean.com>":
 AUCKLAND ANNIVERSARY WEEKEND – Waipakihi River or Patutu (transport costs 
 + take a tent). Grade B or C\nLeader (B) Mike 027 328 5510\nLeader (C) Mic
 hiel 021 057 8141\n&nbsp\;For more information on below tramps (cost\,equi
 puipment etc) please contact the appropriate leader\n&nbsp\;\nThe plan(C) 
 Michiel (Long Tramp)\nFriday 24:\nLeave as early as we can and drive to Ur
 chin campground and set up tent.\nSaturday 25:\nDrive 1 car to Umukarikari
  carpark and follow Umukarikari track to Waipakihi hut (Standard hut\, 12 
 bunks\, 8hrs). Either stay in hut or camp outside.\nSunday 26:\nFollow Wai
 pakihi river down to Urchin track. Camp at river. (6-7hrs)\nMonday 27:\nWa
 lk up to Urchin and down to Urchin carpark (4-5hrs). Get car from Umukarik
 ari carpark and drive home.\n&nbsp\;\nThe plan(B) Mike (Short Tramp)\nSatu
 rday 25 Jan.\nLeave approx. 9am\, travel to Urchin Camping ground. (Approx
  3h drive). Walk up to Mount Urchin and down to the end of the Urchin trac
 k (4-5h walking). Find a great camping spot by the Waipakihi river\, set u
 p camp\, chill\, relax\, swim\, eat etc.\nSunday 26 Jan:\nSpend the day by
  the river\, chilling\, relaxing\, swimming\, fishing\, eating and drinkin
 g. Welcome Michiel and the rest of his team into camp when they arrive.\nM
 onday 27 Jan:\nBreak camp. Walk up to Mount Urchin again and down to Urchi
 n carpark (4-5hrs walking). Give a lift to Michiel and team back to their 
 car from Umukarikari carpark. Drive home.\n&nbsp\;\n&nbsp\;\nIf you are no
 t a member of Hamilton Tramping Club and would like more Information about
  our trips please contact the Club Captain Kathy Old on 027 815 3212\n&nbs
 p\;\n&nbsp\;\n\n\n\n&nbsp\;\n\n
DTSTART:20250125T064500Z
DTEND:20250127T064500Z
GEO:00;0
LOCATION:
ORGANIZER;CN=:mailto:michielvd@hotmail.com
SEQUENCE:1
SUMMARY:Trip 1323 AUCKLAND ANNIVERSARY WEEKEND – Waipakihi River or Patutu
TRANSP:OPAQUE
URL:https://tramphtc.org.nz/index.php/component/icagenda/23-trip-1323-auckl
 and-anniversary-weekend-waipakihi-river-or-patutu
END:VEVENT
END:VCALENDAR
