BEGIN:VCALENDAR
VERSION:2.0
PRODID:-//Hamilton Tramping Club//NONSGML kigkonsult.se iCalcreator 2.41.92//
CALSCALE:GREGORIAN
METHOD:PUBLISH
UID:36353662-6133-4134-b739-633036623838
X-WR-CALNAME:iCagenda
X-WR-CALDESC:Event Management Extension for Joomla!
X-WR-RELCALID:3E26604A-50F4-4449-8B3E-E4F4932D05B5
X-WR-TIMEZONE:Pacific/Auckland
BEGIN:VTIMEZONE
TZID:Pacific/Auckland
TZUNTIL:20260926T140000Z
BEGIN:STANDARD
TZNAME:NZST
DTSTART:20240407T030000
TZOFFSETFROM:+1300
TZOFFSETTO:+1200
RDATE:20250406T030000
RDATE:20260405T030000
END:STANDARD
BEGIN:DAYLIGHT
TZNAME:NZDT
DTSTART:20240929T020000
TZOFFSETFROM:+1200
TZOFFSETTO:+1300
RDATE:20250928T020000
END:DAYLIGHT
END:VTIMEZONE
BEGIN:VEVENT
UID:63656534-6466-4134-b066-633135353335
DTSTAMP:20260420T184927Z
CATEGORIES:A Grade
CLASS:PUBLIC
DESCRIPTION;ALTREP="CID:<FFFF__=0ABBE548DFE235B58f9e8a93d@coffeebean.com>":
 &nbsp\;\nWhanganui area (MEMBERS ONLY)\, Grade A walks.&nbsp\;\nTransport&
 nbsp\;+ accommodation costs.&nbsp\; Please register your interest as soon 
 as possible.&nbsp\; There are still spaces available.&nbsp\; Kathy has an 
 itinerary available for those who are interested.&nbsp\; You will need to 
 contact her.&nbsp\;&nbsp\;\n&nbsp\;\nContacts:&nbsp\; Kathy 027 815 3212\n
 &nbsp\;
DTSTART:20241227T200000Z
DTEND:20250102T040000Z
GEO:00;0
LOCATION:
ORGANIZER;CN=:mailto:kathyoldgirl@gmail.com
SEQUENCE:1
SUMMARY:Trip 1322 Christmas Tramp Whanganui area
TRANSP:OPAQUE
URL:https://tramphtc.org.nz/index.php/component/icagenda/21-trip-1322-chris
 tmas-tramp-whanganui-area
END:VEVENT
END:VCALENDAR
