BEGIN:VCALENDAR
VERSION:2.0
PRODID:-//Hamilton Tramping Club//NONSGML kigkonsult.se iCalcreator 2.41.92//
CALSCALE:GREGORIAN
METHOD:PUBLISH
UID:61396336-3635-4265-b838-333461373333
X-WR-CALNAME:iCagenda
X-WR-CALDESC:Event Management Extension for Joomla!
X-WR-RELCALID:3E26604A-50F4-4449-8B3E-E4F4932D05B5
X-WR-TIMEZONE:Pacific/Auckland
BEGIN:VTIMEZONE
TZID:Pacific/Auckland
TZUNTIL:20260926T140000Z
BEGIN:STANDARD
TZNAME:NZST
DTSTART:20240407T030000
TZOFFSETFROM:+1300
TZOFFSETTO:+1200
RDATE:20250406T030000
RDATE:20260405T030000
END:STANDARD
BEGIN:DAYLIGHT
TZNAME:NZDT
DTSTART:20240929T020000
TZOFFSETFROM:+1200
TZOFFSETTO:+1300
RDATE:20250928T020000
END:DAYLIGHT
END:VTIMEZONE
BEGIN:VEVENT
UID:30313436-6466-4865-a133-346337356633
DTSTAMP:20260420T223043Z
CATEGORIES:Other
CLASS:PUBLIC
DESCRIPTION;ALTREP="CID:<FFFF__=0ABBE548DFE235B58f9e8a93d@coffeebean.com>":
 Join Kathy and Rohita. Theres always a great choice of yummy food to buy f
 rom the food trucks there and its a relaxing end to the year.
DTSTART:20241123T230000Z
DTEND:20241124T020000Z
GEO:00;0
LOCATION:
ORGANIZER;CN=:mailto:kathyoldgirl@gmail.com
SEQUENCE:1
SUMMARY:XMAS Get-Together & Quiz – Gourmet in the Gardens :  24 November.
TRANSP:OPAQUE
URL:https://tramphtc.org.nz/index.php/component/icagenda/20-xmas-get-togeth
 er-quiz-gourmet-in-the-gardens-24-november
END:VEVENT
END:VCALENDAR
