BEGIN:VCALENDAR
VERSION:2.0
PRODID:-//Hamilton Tramping Club//NONSGML kigkonsult.se iCalcreator 2.41.92//
CALSCALE:GREGORIAN
METHOD:PUBLISH
UID:35303330-3165-4433-b064-633265383262
X-WR-CALNAME:iCagenda
X-WR-CALDESC:Event Management Extension for Joomla!
X-WR-RELCALID:3E26604A-50F4-4449-8B3E-E4F4932D05B5
X-WR-TIMEZONE:Pacific/Auckland
BEGIN:VTIMEZONE
TZID:Pacific/Auckland
TZUNTIL:20260926T140000Z
BEGIN:STANDARD
TZNAME:NZST
DTSTART:20240407T030000
TZOFFSETFROM:+1300
TZOFFSETTO:+1200
RDATE:20250406T030000
RDATE:20260405T030000
END:STANDARD
BEGIN:DAYLIGHT
TZNAME:NZDT
DTSTART:20240929T020000
TZOFFSETFROM:+1200
TZOFFSETTO:+1300
RDATE:20250928T020000
END:DAYLIGHT
END:VTIMEZONE
BEGIN:VEVENT
UID:62616564-3632-4631-b161-643365653632
DTSTAMP:20260420T222724Z
CATEGORIES:A Grade
CLASS:PUBLIC
DESCRIPTION;ALTREP="CID:<FFFF__=0ABBE548DFE235B58f9e8a93d@coffeebean.com>":
 Journey into the King Country to enjoy walking across lovely farmland to f
 ind some humongous limestone caverns. Wonder at the interesting limestone 
 formations. Be prepared for hills and some scrambles in the rocky areas. T
 rekking poles could be useful. It is at least a 2 hour drive down and abou
 t 6 hours walking so don’t plan on getting home early. Just come and enjoy
  the day with Lorna and Sharon.\n(Bookings Open 17 October and close 10 No
 vember)
DTSTART:20241116T183000Z
DTEND:20241117T040000Z
GEO:00;0
LOCATION:
ORGANIZER;CN=:mailto:lornagribble@gmail.com
SEQUENCE:1
SUMMARY:Trip 1320 :  Bat Cave & Cavernous Farm Walk : 17 November (Grade A)
TRANSP:OPAQUE
URL:https://tramphtc.org.nz/index.php/component/icagenda/19-trip-1320-bat-c
 ave-cavernous-farm-walk-17-november-grade-a
END:VEVENT
END:VCALENDAR
