BEGIN:VCALENDAR
VERSION:2.0
PRODID:-//Hamilton Tramping Club//NONSGML kigkonsult.se iCalcreator 2.41.92//
CALSCALE:GREGORIAN
METHOD:PUBLISH
UID:32326237-6264-4838-b133-363138306130
X-WR-CALNAME:iCagenda
X-WR-CALDESC:Event Management Extension for Joomla!
X-WR-RELCALID:3E26604A-50F4-4449-8B3E-E4F4932D05B5
X-WR-TIMEZONE:Pacific/Auckland
BEGIN:VTIMEZONE
TZID:Pacific/Auckland
TZUNTIL:20260926T140000Z
BEGIN:STANDARD
TZNAME:NZST
DTSTART:20240407T030000
TZOFFSETFROM:+1300
TZOFFSETTO:+1200
RDATE:20250406T030000
RDATE:20260405T030000
END:STANDARD
BEGIN:DAYLIGHT
TZNAME:NZDT
DTSTART:20240929T020000
TZOFFSETFROM:+1200
TZOFFSETTO:+1300
RDATE:20250928T020000
END:DAYLIGHT
END:VTIMEZONE
BEGIN:VEVENT
UID:36663565-6366-4834-a638-323162303333
DTSTAMP:20260420T222836Z
CATEGORIES:B Grade
CLASS:PUBLIC
DESCRIPTION;ALTREP="CID:<FFFF__=0ABBE548DFE235B58f9e8a93d@coffeebean.com>":
 &nbsp\;\nTrip 1319:&nbsp\; (Dates 1-3 November):&nbsp\; Blyth Hut - 'Love 
 our Hut' weekend.&nbsp\; \nWe have signed up for the 'Love our Hut' nation
 -wide initiative instigated by FMC.&nbsp\; This means a spring clean and c
 hecklist for the hut.&nbsp\; We are planning to drive down Friday night st
 aying in Ohakune.&nbsp\; Then walking into Blyth Hut Saturday\, 2 November
 \, staying the night\, then heading back to Hamilton on Sunday.&nbsp\; \n&
 nbsp\;\nBlyth Hut\, on Mt Ruapehu.&nbsp\; We access Blyth Hut via Old Moun
 tain Road\, through Ohakune.&nbsp\; We are keen to travel down Friday nigh
 t to Ohakune and maybe staying somewhere Friday night\, then heading into 
 Blyth Hut the shortest route possible on Saturday 2 November - should take
  around 2 hours to get there.&nbsp\; We are planning to stay the night at 
 Blyth Hut Saturday night.&nbsp\; Then heading back to Hamilton Sunday.&nbs
 p\; It should be a fun weekend and very cool to get behind this FMC initia
 tive!&nbsp\;&nbsp\;\nInfo on Blyth Hut:&nbsp\; Sits at altitude 1380 m.&nb
 sp\; Cost is $25 pp (need to purchase 1 x green ticket -Serviced Hut).&nbs
 p\; 18 bunks.&nbsp\; No firewood at this hut.&nbsp\; A few people might ta
 ke tents just in case.&nbsp\;\n&nbsp\;\nLeader Cate 027 494 5353 for more 
 info.\n&nbsp\;\n&nbsp\;
DTSTART:20241101T053000Z
DTEND:20241103T040000Z
GEO:00;0
LOCATION:
ORGANIZER;CN=:mailto:k8.hampton@xtra.co.nz
SEQUENCE:1
SUMMARY:Trip 1319 :  Blyth Hut - 'Love our Hut' weekend.
TRANSP:OPAQUE
URL:https://tramphtc.org.nz/index.php/component/icagenda/18-trip-1319-grey-
 corcoran-roads-loop-pirongia-3-november-grade-b-or-an-a-trip-instead
END:VEVENT
END:VCALENDAR
