BEGIN:VCALENDAR
VERSION:2.0
PRODID:-//Hamilton Tramping Club//NONSGML kigkonsult.se iCalcreator 2.41.92//
CALSCALE:GREGORIAN
METHOD:PUBLISH
UID:62373462-3233-4130-b539-633335343562
X-WR-CALNAME:iCagenda
X-WR-CALDESC:Event Management Extension for Joomla!
X-WR-RELCALID:3E26604A-50F4-4449-8B3E-E4F4932D05B5
X-WR-TIMEZONE:Pacific/Auckland
BEGIN:VTIMEZONE
TZID:Pacific/Auckland
TZUNTIL:20260926T140000Z
BEGIN:STANDARD
TZNAME:NZST
DTSTART:20240407T030000
TZOFFSETFROM:+1300
TZOFFSETTO:+1200
RDATE:20250406T030000
RDATE:20260405T030000
END:STANDARD
BEGIN:DAYLIGHT
TZNAME:NZDT
DTSTART:20240929T020000
TZOFFSETFROM:+1200
TZOFFSETTO:+1300
RDATE:20250928T020000
END:DAYLIGHT
END:VTIMEZONE
BEGIN:VEVENT
UID:64326536-6338-4564-b366-373964373237
DTSTAMP:20260421T000720Z
CATEGORIES:A Grade
CLASS:PUBLIC
DESCRIPTION;ALTREP="CID:<FFFF__=0ABBE548DFE235B58f9e8a93d@coffeebean.com>":
 Join Kathy/Bill for a day trip to Rotorua. A walk around Lake Okareka will
  take about an hour and a half\; Whangioterangi a couple of hours walk and
  to end the day\, a refreshing dip in a local hot pool.\n(Bookings Open 20
  September and close 13 October)\n&nbsp\;
DTSTART:20241019T183000Z
DTEND:20241020T040000Z
GEO:00;0
LOCATION:
ORGANIZER;CN=:mailto:kathyoldgirl@gmail.com
SEQUENCE:1
SUMMARY:Trip 1317 :  Lakes Okareka\, Whangioterangi & Hot Pools\, Rotorua :
  20 October (Grade A)
TRANSP:OPAQUE
URL:https://tramphtc.org.nz/index.php/component/icagenda/16-trip-1317-lakes
 -okareka-whangioterangi-hot-pools-rotorua-20-october-grade-a
END:VEVENT
END:VCALENDAR
