BEGIN:VCALENDAR
VERSION:2.0
PRODID:-//Hamilton Tramping Club//NONSGML kigkonsult.se iCalcreator 2.41.92//
CALSCALE:GREGORIAN
METHOD:PUBLISH
UID:37616530-6534-4234-b363-653336666165
X-WR-CALNAME:iCagenda
X-WR-CALDESC:Event Management Extension for Joomla!
X-WR-RELCALID:3E26604A-50F4-4449-8B3E-E4F4932D05B5
X-WR-TIMEZONE:Pacific/Auckland
BEGIN:VTIMEZONE
TZID:Pacific/Auckland
TZUNTIL:20260926T140000Z
BEGIN:STANDARD
TZNAME:NZST
DTSTART:20240407T030000
TZOFFSETFROM:+1300
TZOFFSETTO:+1200
RDATE:20250406T030000
RDATE:20260405T030000
END:STANDARD
BEGIN:DAYLIGHT
TZNAME:NZDT
DTSTART:20240929T020000
TZOFFSETFROM:+1200
TZOFFSETTO:+1300
RDATE:20250928T020000
END:DAYLIGHT
END:VTIMEZONE
BEGIN:VEVENT
UID:61316662-3335-4038-b161-353561663461
DTSTAMP:20260421T000407Z
CATEGORIES:A Grade
CLASS:PUBLIC
DESCRIPTION;ALTREP="CID:<FFFF__=0ABBE548DFE235B58f9e8a93d@coffeebean.com>":
 More Details to come\n&nbsp\;\n(Bookings Open 6 September and close 29 Sep
 tember)
DTSTART:20241005T183000Z
DTEND:20241006T040000Z
GEO:00;0
LOCATION:
ORGANIZER;CN=:mailto:dolphin2222@hotmail.com
SEQUENCE:1
SUMMARY:Trip 1316 :  Maungatautari walks : 6 October  (Grade A)
TRANSP:OPAQUE
URL:https://tramphtc.org.nz/index.php/component/icagenda/15-trip-1316-maung
 atautari-walks-6-october-grade-a
END:VEVENT
END:VCALENDAR
