BEGIN:VCALENDAR
VERSION:2.0
PRODID:-//Hamilton Tramping Club//NONSGML kigkonsult.se iCalcreator 2.41.92//
CALSCALE:GREGORIAN
METHOD:PUBLISH
UID:64366337-3435-4634-a236-333965386564
X-WR-CALNAME:iCagenda
X-WR-CALDESC:Event Management Extension for Joomla!
X-WR-RELCALID:3E26604A-50F4-4449-8B3E-E4F4932D05B5
X-WR-TIMEZONE:Pacific/Auckland
BEGIN:VTIMEZONE
TZID:Pacific/Auckland
TZUNTIL:20260926T140000Z
BEGIN:STANDARD
TZNAME:NZST
DTSTART:20240407T030000
TZOFFSETFROM:+1300
TZOFFSETTO:+1200
RDATE:20250406T030000
RDATE:20260405T030000
END:STANDARD
BEGIN:DAYLIGHT
TZNAME:NZDT
DTSTART:20240929T020000
TZOFFSETFROM:+1200
TZOFFSETTO:+1300
RDATE:20250928T020000
END:DAYLIGHT
END:VTIMEZONE
BEGIN:VEVENT
UID:61313039-3337-4239-b030-636133653964
DTSTAMP:20260421T000655Z
CATEGORIES:A Grade
CLASS:PUBLIC
DESCRIPTION;ALTREP="CID:<FFFF__=0ABBE548DFE235B58f9e8a93d@coffeebean.com>":
 This is a good tramp\, especially if you have never stayed in our closest 
 DOC hut. It's a nice modern hut\, no fire\, but well insulated and it gets
  all the afternoon sun.\nIt's about 4-5hr up with stops at the lookout poi
 nts and the summit tower. Nice views over the Waikato. About the same time
  for the return trip but we will come down on a different track.\nPirongia
  always offers varied terrain-- ups/downs/tree roots/ muddy patches/ some 
 scrambles and a couple of chains to make it interesting.\n10 bunks have be
 en pre booked.\n&nbsp\;\n(Bookings Open 5 September and close 29 September
 )\n&nbsp\;
DTSTART:20241004T180000Z
DTEND:20241006T040000Z
GEO:00;0
LOCATION:
ORGANIZER;CN=:mailto:sharonwoodward577@gmail.com
SEQUENCE:1
SUMMARY:Trip 1315 :  Pirongia Hut Overnighter : 5-6 October (Grade A) $30/N
 M$35 + Hut fee
TRANSP:OPAQUE
URL:https://tramphtc.org.nz/index.php/component/icagenda/14-trip-1315-piron
 gia-hut-overnighter-5-6-october-grade-a-30-nm-35-hut-fee
END:VEVENT
END:VCALENDAR
