BEGIN:VCALENDAR
VERSION:2.0
PRODID:-//Hamilton Tramping Club//NONSGML kigkonsult.se iCalcreator 2.41.92//
CALSCALE:GREGORIAN
METHOD:PUBLISH
UID:36643164-3232-4236-a638-333539303632
X-WR-CALNAME:iCagenda
X-WR-CALDESC:Event Management Extension for Joomla!
X-WR-RELCALID:3E26604A-50F4-4449-8B3E-E4F4932D05B5
X-WR-TIMEZONE:Pacific/Auckland
BEGIN:VTIMEZONE
TZID:Pacific/Auckland
TZUNTIL:20260404T140000Z
BEGIN:STANDARD
TZNAME:NZST
DTSTART:20240407T030000
TZOFFSETFROM:+1300
TZOFFSETTO:+1200
RDATE:20250406T030000
END:STANDARD
BEGIN:DAYLIGHT
TZNAME:NZDT
DTSTART:20230924T020000
TZOFFSETFROM:+1200
TZOFFSETTO:+1300
RDATE:20240929T020000
RDATE:20250928T020000
END:DAYLIGHT
END:VTIMEZONE
BEGIN:VEVENT
UID:31333637-3366-4332-b765-666237663839
DTSTAMP:20260421T000633Z
CATEGORIES:A Grade
CLASS:PUBLIC
DESCRIPTION;ALTREP="CID:<FFFF__=0ABBE548DFE235B58f9e8a93d@coffeebean.com>":
 &nbsp\;\nWe are intending to do a short section of TeAraroa Trail\, starti
 ng from Kaimango Road\, hopping over onto farmland and heading to a wool-s
 hed on Mahoe Road. Expect to walk approx 4-5 hours. Join Kathy and Lynne.
 \nBookings Open 22 August and close 15 September
DTSTART:20240921T193000Z
DTEND:20240922T050000Z
GEO:00;0
LOCATION:
ORGANIZER;CN=:mailto:kathyoldgirl@gmail.com
SEQUENCE:1
SUMMARY:Trip 1314 :  Mahoe Track\, TeAraroa Trail\, Waikato : 22 September 
 (Grade A)
TRANSP:OPAQUE
URL:https://tramphtc.org.nz/index.php/component/icagenda/13-trip-1314-mahoe
 -track-teararoa-trail-waikato-22-september-grade-a
END:VEVENT
END:VCALENDAR
