BEGIN:VCALENDAR
VERSION:2.0
PRODID:-//Hamilton Tramping Club//NONSGML kigkonsult.se iCalcreator 2.41.92//
CALSCALE:GREGORIAN
METHOD:PUBLISH
UID:33643866-3162-4564-b565-363962646134
X-WR-CALNAME:iCagenda
X-WR-CALDESC:Event Management Extension for Joomla!
X-WR-RELCALID:3E26604A-50F4-4449-8B3E-E4F4932D05B5
X-WR-TIMEZONE:Pacific/Auckland
BEGIN:VTIMEZONE
TZID:Pacific/Auckland
TZUNTIL:20260404T140000Z
BEGIN:STANDARD
TZNAME:NZST
DTSTART:20240407T030000
TZOFFSETFROM:+1300
TZOFFSETTO:+1200
RDATE:20250406T030000
END:STANDARD
BEGIN:DAYLIGHT
TZNAME:NZDT
DTSTART:20230924T020000
TZOFFSETFROM:+1200
TZOFFSETTO:+1300
RDATE:20240929T020000
RDATE:20250928T020000
END:DAYLIGHT
END:VTIMEZONE
BEGIN:VEVENT
UID:33393432-6166-4565-b864-333931646265
DTSTAMP:20260421T000310Z
CATEGORIES:B Grade
CLASS:PUBLIC
DESCRIPTION;ALTREP="CID:<FFFF__=0ABBE548DFE235B58f9e8a93d@coffeebean.com>":
 &nbsp\;\nKevin and Michiel will choose a hut to spend the night – either T
 aranaki or Tongariro? Will we get snow and mulled wine like last year?\nBo
 okings Open 7 August and close 1 September\n&nbsp\;
DTSTART:20240906T190000Z
DTEND:20240908T070000Z
GEO:00;0
LOCATION:
ORGANIZER;CN=:mailto:gorgeousnan@windowslive.com
SEQUENCE:1
SUMMARY:Trip 1313 :  Winter Hut Trip : 7-8 September (Grade A/B)
TRANSP:OPAQUE
URL:https://tramphtc.org.nz/index.php/component/icagenda/12-trip-1313-winte
 r-hut-trip-7-8-september-grade-a-b
END:VEVENT
END:VCALENDAR
