BEGIN:VCALENDAR
VERSION:2.0
PRODID:-//Hamilton Tramping Club//NONSGML kigkonsult.se iCalcreator 2.41.92//
CALSCALE:GREGORIAN
METHOD:PUBLISH
UID:66623539-3937-4333-b938-323330323634
X-WR-CALNAME:iCagenda
X-WR-CALDESC:Event Management Extension for Joomla!
X-WR-RELCALID:3E26604A-50F4-4449-8B3E-E4F4932D05B5
X-WR-TIMEZONE:Pacific/Auckland
BEGIN:VTIMEZONE
TZID:Pacific/Auckland
TZUNTIL:20260404T140000Z
BEGIN:STANDARD
TZNAME:NZST
DTSTART:20240407T030000
TZOFFSETFROM:+1300
TZOFFSETTO:+1200
RDATE:20250406T030000
END:STANDARD
BEGIN:DAYLIGHT
TZNAME:NZDT
DTSTART:20230924T020000
TZOFFSETFROM:+1200
TZOFFSETTO:+1300
RDATE:20240929T020000
RDATE:20250928T020000
END:DAYLIGHT
END:VTIMEZONE
BEGIN:VEVENT
UID:32316464-3563-4033-b662-373939393865
DTSTAMP:20260420T185540Z
CATEGORIES:A Grade
CLASS:PUBLIC
DESCRIPTION;ALTREP="CID:<FFFF__=0ABBE548DFE235B58f9e8a93d@coffeebean.com>":
 &nbsp\;\n&nbsp\;\nA Tri Tramp in 3 parts with lots to see and do. Great vi
 ews (weather permitting)\, the sound of water\, learn some history and tak
 e photo's of some wonderful colourful creatures\, all in one day. With the
  bonus of ice cream. Join us on the Toblerone Trilog Tramp. You may even w
 in a chocolatey prize.\n&nbsp\;\nContact Carl&nbsp\;&nbsp\;&nbsp\; email: 
 mosclanz@gmail.com or mob: 027 354 9273
DTSTART:20240629T200000Z
DTEND:20240630T043000Z
GEO:00;0
LOCATION:
ORGANIZER;CN=:mailto:mosclanz@gmail.com
SEQUENCE:1
SUMMARY:Trip 1308 : Carl's Surprise Tramp : 30 June 2024 (GradeA)
TRANSP:OPAQUE
URL:https://tramphtc.org.nz/index.php/component/icagenda/11-trip-1308-carls
 -surprise-tramp-30-june-2024-gradea
END:VEVENT
END:VCALENDAR
