BEGIN:VCALENDAR
VERSION:2.0
PRODID:-//Hamilton Tramping Club//NONSGML kigkonsult.se iCalcreator 2.41.92//
CALSCALE:GREGORIAN
METHOD:PUBLISH
UID:36346563-6265-4233-b363-616263393033
X-WR-CALNAME:iCagenda
X-WR-CALDESC:Event Management Extension for Joomla!
X-WR-RELCALID:3E26604A-50F4-4449-8B3E-E4F4932D05B5
X-WR-TIMEZONE:Pacific/Auckland
BEGIN:VTIMEZONE
TZID:Pacific/Auckland
TZUNTIL:20260404T140000Z
BEGIN:STANDARD
TZNAME:NZST
DTSTART:20240407T030000
TZOFFSETFROM:+1300
TZOFFSETTO:+1200
RDATE:20250406T030000
END:STANDARD
BEGIN:DAYLIGHT
TZNAME:NZDT
DTSTART:20230924T020000
TZOFFSETFROM:+1200
TZOFFSETTO:+1300
RDATE:20240929T020000
RDATE:20250928T020000
END:DAYLIGHT
END:VTIMEZONE
BEGIN:VEVENT
UID:32663632-6138-4331-a133-643738626632
DTSTAMP:20260420T222517Z
CATEGORIES:A Grade
CLASS:PUBLIC
DESCRIPTION;ALTREP="CID:<FFFF__=0ABBE548DFE235B58f9e8a93d@coffeebean.com>":
 &nbsp\;\n'This replaces the earlier posted Hunua Tramp\nWendy and I have a
 greed&nbsp\; we should offer an A grade coastal tramp in the Whitford- Bea
 chlands area including Omana&nbsp\;Regional Park and Maraetai. This is Wen
 dy's backyard.&nbsp\; Our plan is to take a group&nbsp\;in a van and head 
 to the Clifton Road area near Whitford to start the walk there. There will
  be coastal scenery of sea/estuary/harbour views and farmland on paths\, h
 orse trails and short sections of road. Sturdy sports shoes and tramping b
 oots are both suitable footwear. We expect to be about 4 hours in the Whit
 ford area\, then move the van for a short distance and walk for maybe 1 1/
 2 hours in the Maraetai Beach area and finish with coffee and icecream&nbs
 p\;of course.\nTramp 1312 is now Whitford-Beachlands Coastal Exploration&n
 bsp\;\nBook online or contact Wendy Goad on 027 688 3433 or Ian Kindred on
  027 777 4551. Further information will be supplied to participants close 
 to the tramp date\, but if you have queries\, please give us a call. '&nbs
 p\;
DTSTART:20240824T120000Z
DTEND:20240824T120000Z
GEO:-37.093624;+175.180038
LOCATION:
ORGANIZER;CN=:mailto:iankindred1@gmail.com
SEQUENCE:1
SUMMARY:Trip 1312  :  NEW DESTINATION/ Whitford/ Beachlands Coastal Explora
 tion :  25 August 2024 (Grade A)
TRANSP:OPAQUE
URL:https://tramphtc.org.nz/index.php/component/icagenda/10-trip-1312-hunua
 s-25-august-2024-grade-a
END:VEVENT
END:VCALENDAR
